BEGIN:VCALENDAR
VERSION:2.0
PRODID:-//ExpressionEngine Easy iCalendar plugin//NONSGML v1.1.1//EN
BEGIN:VEVENT
UID:event
LOCATION:Barnard Hall\, Sulzberger Parlor (Third Floor)
DTSTAMP:20210221T33600Z
DTSTART;TZID=America/New_York:20110208T190000
DTEND;TZID=America/New_York:
SUMMARY:Just Like a Man? Dylan and the Charge of Misogyny
DESCRIPTION:Christopher Ricks\, Professor of English at Boston University
 \, returns to Columbia to speak on Bob Dylan.
END:VEVENT
END:VCALENDAR