BEGIN:VCALENDAR
VERSION:2.0
PRODID:-//ExpressionEngine Easy iCalendar plugin//NONSGML v1.1.1//EN
BEGIN:VEVENT
UID:event
LOCATION:The Heyman Center\, Second Floor Common Room
DTSTAMP:20210221T33000Z
DTSTART;TZID=America/New_York:20110217T181500
DTEND;TZID=America/New_York:
SUMMARY:Enemy Painting: Carl Schmitt and Hieronymus Bosch
DESCRIPTION:Joseph Koerner\, Victor S. Thomas Professor of the History of
  Art and Architecture at Harvard University\, will speak on "
 Enemy Painting: Carl Schmitt and Hieronymus Bosch."
END:VEVENT
END:VCALENDAR