BEGIN:VCALENDAR
VERSION:2.0
PRODID:-//ExpressionEngine Easy iCalendar plugin//NONSGML v1.1.1//EN
BEGIN:VEVENT
UID:event
LOCATION:The Heyman Center\, Second Floor Common Room
DTSTAMP:20210221T33500Z
DTSTART;TZID=America/New_York:20110223T181500
DTEND;TZID=America/New_York:
SUMMARY:Representations of Childhood
DESCRIPTION:Poet and Essayist James Fenton will deliver a lecture on "Re
 presentations of Childhood."
END:VEVENT
END:VCALENDAR