BEGIN:VCALENDAR
VERSION:2.0
PRODID:-//ExpressionEngine Easy iCalendar plugin//NONSGML v1.1.1//EN
BEGIN:VEVENT
UID:event
LOCATION:The Heyman Center\, Second Floor Common Room
DTSTAMP:20210221T33700Z
DTSTART;TZID=America/New_York:20110224T181500
DTEND;TZID=America/New_York:
SUMMARY:A Poetry Reading by James Fenton
DESCRIPTION:Poet and Essayist James Fenton returns to the Heyman Center 
 for a second consecutive night to deliver reading of his sel
 ected poems.
END:VEVENT
END:VCALENDAR