BEGIN:VCALENDAR
VERSION:2.0
PRODID:-//ExpressionEngine Easy iCalendar plugin//NONSGML v1.1.1//EN
BEGIN:VEVENT
UID:event
LOCATION:International Affairs Building\, Altschul Auditorium (Room 41
 7)
DTSTAMP:20210221T33300Z
DTSTART;TZID=America/New_York:20110308T203000
DTEND;TZID=America/New_York:
SUMMARY:Edward W. Said Memorial Lecture: “Notes from the Egyptian 
 Revolution”
DESCRIPTION:Preeminent author Ahdaf Soueif\, who spent much of the Egypti
 an revolution in Tahrir Square\, will deliver the annual Edwa
 rd Said Memorial Lecture on "Notes from the Egyptian Revolut
 ion."
END:VEVENT
END:VCALENDAR