BEGIN:VCALENDAR
VERSION:2.0
PRODID:-//ExpressionEngine Easy iCalendar plugin//NONSGML v1.1.1//EN
BEGIN:VEVENT
UID:event
LOCATION:Schermerhorn Hall\, Room 501
DTSTAMP:20210221T33000Z
DTSTART;TZID=America/New_York:20110328T200000
DTEND;TZID=America/New_York:20110329T000000
SUMMARY:What Does “Imperialism” Mean in an Age of Global Finance
 ?—a symposium over two evenings
DESCRIPTION:In an age of global finance and neo-liberal policies\, when p
 owerful elites around the world are deeply allied by mutual 
 self-interest\, the idea that one nation exercises economic p
 ower over another is less relevant than other forms of emerg
 ing hegemonies.
END:VEVENT
END:VCALENDAR