BEGIN:VCALENDAR
VERSION:2.0
PRODID:-//ExpressionEngine Easy iCalendar plugin//NONSGML v1.1.1//EN
BEGIN:VEVENT
UID:event
LOCATION:301 Uris Hall
DTSTAMP:20210221T32800Z
DTSTART;TZID=America/New_York:20110330T120000
DTEND;TZID=America/New_York:
SUMMARY:India During and After the Global Financial Crisis
DESCRIPTION:Picking up on the previous two nights’ discussion of globa
 l finance\, several of the world’s most renowned economists
  gather to discuss the financial crisis as it related to Ind
 ia.
END:VEVENT
END:VCALENDAR