BEGIN:VCALENDAR
VERSION:2.0
PRODID:-//ExpressionEngine Easy iCalendar plugin//NONSGML v1.1.1//EN
BEGIN:VEVENT
UID:event
LOCATION:The Heyman Center\, Second Floor Common Room
DTSTAMP:20210221T32700Z
DTSTART;TZID=America/New_York:20110401T181500
DTEND;TZID=America/New_York:
SUMMARY:Globalectical Imagination: Reading the World in the Postcolo
 nial
DESCRIPTION:Ngugi wa Thiong'o\, novelist\, theorist of post-colonial liter
 ature\, and Distinguished Professor of the Departments of Com
 parative Literature and English at the University of Califor
 nia\, Irvine\, will deliver the Spring 2011 Lionel Trilling Se
 minar on "Globalectical Imagination: Reading the World in th
 e Postcolonial."
END:VEVENT
END:VCALENDAR