BEGIN:VCALENDAR
VERSION:2.0
PRODID:-//ExpressionEngine Easy iCalendar plugin//NONSGML v1.1.1//EN
BEGIN:VEVENT
UID:event
LOCATION:209 Havemeyer Hall
DTSTAMP:20210221T33900Z
DTSTART;TZID=America/New_York:20110404T181500
DTEND;TZID=America/New_York:
SUMMARY:Psychonalysis and History
DESCRIPTION:The Annual History and Theory lecture will feature Joan Scot
 t\, Harold F. Linder Professor at the School of Social Scienc
 e\, Institute for Advanced Study.
END:VEVENT
END:VCALENDAR