BEGIN:VCALENDAR
VERSION:2.0
PRODID:-//ExpressionEngine Easy iCalendar plugin//NONSGML v1.1.1//EN
BEGIN:VEVENT
UID:event
LOCATION:The Heyman Center\, Second Floor Common Room
DTSTAMP:20210221T33100Z
DTSTART;TZID=America/New_York:20110411T181500
DTEND;TZID=America/New_York:
SUMMARY:The Idea of the University: Newman and Now
DESCRIPTION:Stefan Collini\, Professor of English Literature and Intellec
 tual History at the University of Cambridge\, will deliver a 
 talk titled "The Idea of the University: Newman and Now."
END:VEVENT
END:VCALENDAR