BEGIN:VCALENDAR
VERSION:2.0
PRODID:-//ExpressionEngine Easy iCalendar plugin//NONSGML v1.1.1//EN
BEGIN:VEVENT
UID:event
LOCATION:The Schapiro Center\, Davis Auditorium
DTSTAMP:20210221T33100Z
DTSTART;TZID=America/New_York:20110420T181500
DTEND;TZID=America/New_York:
SUMMARY:What is Wisdom?
DESCRIPTION:Charles Larmore\, who specializes in moral and political phil
 osophy\, Paul Audi\, who has written extensively on Rousseau a
 nd Nietzsche\, working chiefly on the relations between ethic
 s and aesthetics\, and Valérie Gérard whose philosophy is i
 nspired by Hannah Arendt\, will team up in their effort to fi
 nd where wisdom lies.
END:VEVENT
END:VCALENDAR