BEGIN:VCALENDAR
VERSION:2.0
PRODID:-//ExpressionEngine Easy iCalendar plugin//NONSGML v1.1.1//EN
BEGIN:VEVENT
UID:event
LOCATION:The Heyman Center\, Second Floor Common Room
DTSTAMP:20210221T33400Z
DTSTART;TZID=America/New_York:20110421T181500
DTEND;TZID=America/New_York:
SUMMARY:Marx and the United States
DESCRIPTION:In advance of the publication of his latest book\, An Unfinis
 hed Revolution: Karl Marx and Abraham Lincoln (2011)\, Robin 
 Blackburn\, Professor of Sociology at the University of Essex
 \, will speak on the relationship that existed between Karl M
 arx and Abraham Lincoln.
END:VEVENT
END:VCALENDAR