BEGIN:VCALENDAR
VERSION:2.0
PRODID:-//ExpressionEngine Easy iCalendar plugin//NONSGML v1.1.1//EN
BEGIN:VEVENT
UID:event
LOCATION:The Heyman Center\, Second Floor Common Room
DTSTAMP:20210221T33100Z
DTSTART;TZID=America/New_York:20110502T181500
DTEND;TZID=America/New_York:
SUMMARY:“Thou Art My Sister”: Physico-Theology and the Peopling 
 of Nature
DESCRIPTION:Joanna Picciotto and Anne-Lise Francois\, both Associate Prof
 essors of English at the University of California\, Berkeley\,
  will speak on “‘Thou Art My Sister’: Physico-Theology
  and the Peopling of Nature”
END:VEVENT
END:VCALENDAR