BEGIN:VCALENDAR
VERSION:2.0
PRODID:-//ExpressionEngine Easy iCalendar plugin//NONSGML v1.1.1//EN
BEGIN:VEVENT
UID:event
LOCATION:The Schapiro Center\, Davis Auditorium
DTSTAMP:20210221T32900Z
DTSTART;TZID=America/New_York:20110503T181500
DTEND;TZID=America/New_York:
SUMMARY:Edward Albee in Conversation with Evangeline Morphos
DESCRIPTION:World famous playwright Edward Albee will visit the Heyman C
 enter to converse with Evangeline Morphos\, Professor of Film
  and Theater at Columbia University.
END:VEVENT
END:VCALENDAR