BEGIN:VCALENDAR
VERSION:2.0
PRODID:-//ExpressionEngine Easy iCalendar plugin//NONSGML v1.1.1//EN
BEGIN:VEVENT
UID:event
LOCATION:The Heyman Center\, Second Floor Common Room
DTSTAMP:20210221T33000Z
DTSTART;TZID=America/New_York:20110504T181500
DTEND;TZID=America/New_York:
SUMMARY:How is Obama Doing?
DESCRIPTION:David Bromwich\, Sterling Professor of English at Yale Univer
 sity\, and Alan Brinkley\, Allan Nevins Professor of American 
 History at Columbia University\, will speak on Obama's presid
 ency thus far.
END:VEVENT
END:VCALENDAR