BEGIN:VCALENDAR
VERSION:2.0
PRODID:-//ExpressionEngine Easy iCalendar plugin//NONSGML v1.1.1//EN
BEGIN:VEVENT
UID:event
LOCATION:Miller Theatre
DTSTAMP:20210221T32900Z
DTSTART;TZID=America/New_York:20110509T193000
DTEND;TZID=America/New_York:
SUMMARY:The Legacy of Legends: A Sitar Concert by Shujaat Khan
DESCRIPTION:Shujaat Husain Khan is perhaps the greatest North Indian mus
 ician of his generation\, and the son and disciple of the leg
 endary sitarist Ustad Vilayat Khan.
END:VEVENT
END:VCALENDAR