BEGIN:VCALENDAR
VERSION:2.0
PRODID:-//ExpressionEngine Easy iCalendar plugin//NONSGML v1.1.1//EN
BEGIN:VEVENT
UID:event
LOCATION:The Heyman Center\, Second Floor Common Room
DTSTAMP:20210221T33900Z
DTSTART;TZID=America/New_York:20100914T181500
DTEND;TZID=America/New_York:
SUMMARY:Taking Stock of (Analytical) Marxism
DESCRIPTION:Pranab Bardhan\, Professor of Economics at the University of 
 California\, Berkeley\, Jon Elster\, Robert K. Merton Professor
  of Social Sciences at Columbia University\, and John Roemer\,
  Elizabeth S. and A. Varick Stout Professor of Political Sci
 ence and Economics at Yale University\, will speak on "Taking
  Stock of (Analytical) Marxism."
END:VEVENT
END:VCALENDAR