BEGIN:VCALENDAR
VERSION:2.0
PRODID:-//ExpressionEngine Easy iCalendar plugin//NONSGML v1.1.1//EN
BEGIN:VEVENT
UID:event
LOCATION:The Heyman Center\, Second Floor Common Room
DTSTAMP:20210221T33400Z
DTSTART;TZID=America/New_York:20101012T181500
DTEND;TZID=America/New_York:
SUMMARY:Halcyon Days: Emerging Centers of Regional Power in Shu (Sic
 huan)and Jiao (Vietnam)
DESCRIPTION:Franciscus Verellen\, Director of École française d'Extrêm
 e-Orient\, will give the William Theodore de Bary Lecture on 
 "Halcyon Days: Emerging Centers of Regional Power in Shu (Si
 chuan) and Jiao (Vietnam) after the Fall of the Tang."
END:VEVENT
END:VCALENDAR