BEGIN:VCALENDAR
VERSION:2.0
PRODID:-//ExpressionEngine Easy iCalendar plugin//NONSGML v1.1.1//EN
BEGIN:VEVENT
UID:event
LOCATION:The Schapiro Center\, Davis Auditorium
DTSTAMP:20210221T33000Z
DTSTART;TZID=America/New_York:20101019T181500
DTEND;TZID=America/New_York:
SUMMARY:The Fiery Trial: Abraham Lincoln and American Slavery
DESCRIPTION:This discussion will focus on Eric Foner's new book\, The Fie
 ry Trial: Abraham Lincoln and American Slavery.
END:VEVENT
END:VCALENDAR