BEGIN:VCALENDAR
VERSION:2.0
PRODID:-//ExpressionEngine Easy iCalendar plugin//NONSGML v1.1.1//EN
BEGIN:VEVENT
UID:event
LOCATION:International Affairs Building\, Room 1501
DTSTAMP:20210221T32900Z
DTSTART;TZID=America/New_York:20101110T181500
DTEND;TZID=America/New_York:
SUMMARY:The New Atheism and the War on Terror
DESCRIPTION:Terry Eagleton\, Distinguished Professor of English Literatur
 e at Lancaster University\, UK\, will speak on "The New Atheis
 m and the War on Terror."
END:VEVENT
END:VCALENDAR