BEGIN:VCALENDAR
VERSION:2.0
PRODID:-//ExpressionEngine Easy iCalendar plugin//NONSGML v1.1.1//EN
BEGIN:VEVENT
UID:event
LOCATION:Schermerhorn Hall\, Davis Auditorium
DTSTAMP:20210221T33000Z
DTSTART;TZID=America/New_York:20101111T181500
DTEND;TZID=America/New_York:
SUMMARY:Rococophilia: War\, Beauty\, and the Eighteenth Century in Bri
 tish Culture 1919-1933
DESCRIPTION:The Fall 2010 Lionel Trilling Seminar will feature Terry Cas
 tle\, Walter A. Haas Professor in the Humanities at Stanford 
 University.
END:VEVENT
END:VCALENDAR