BEGIN:VCALENDAR
VERSION:2.0
PRODID:-//ExpressionEngine Easy iCalendar plugin//NONSGML v1.1.1//EN
BEGIN:VEVENT
UID:event
LOCATION:The Heyman Center\, Second Floor Common Room
DTSTAMP:20210221T33800Z
DTSTART;TZID=America/New_York:20101116T181500
DTEND;TZID=America/New_York:
SUMMARY:Language and Expression
DESCRIPTION:Charles Taylor\, Professor of Philosophy at McGill University
 \, returns to Columbia to speak on "Some Issues about Languag
 e".
END:VEVENT
END:VCALENDAR