BEGIN:VCALENDAR
VERSION:2.0
PRODID:-//ExpressionEngine Easy iCalendar plugin//NONSGML v1.1.1//EN
BEGIN:VEVENT
UID:event
LOCATION:The Heyman Center\, Second Floor Common Room
DTSTAMP:20210221T33600Z
DTSTART;TZID=America/New_York:20101129T181500
DTEND;TZID=America/New_York:
SUMMARY:Storytelling the City
DESCRIPTION:Suketu Mehta\, Associate Professor of Journalism at New York 
 University\, Richard Sennett\, Professor at New York Universit
 y and the London School of Economics\, and Michael Taussig\, C
 lass of 1933 Professor of Anthropology at Columbia Universit
 y\, will speak on "Storytelling and the City."
END:VEVENT
END:VCALENDAR