BEGIN:VCALENDAR
VERSION:2.0
PRODID:-//ExpressionEngine Easy iCalendar plugin//NONSGML v1.1.1//EN
BEGIN:VEVENT
UID:event
LOCATION:The Schapiro Center\, Davis Auditorium
DTSTAMP:20210221T33700Z
DTSTART;TZID=America/New_York:20101130T181500
DTEND;TZID=America/New_York:
SUMMARY:Tea Leaves: The Right\, before and after the Election
DESCRIPTION:Jill Lepore\, David Woods Kemper '41 Professor of American Hi
 story at Harvard University\, will speak on "Tea Leaves: The 
 Right\, before and after the Election."
END:VEVENT
END:VCALENDAR