BEGIN:VCALENDAR
VERSION:2.0
PRODID:-//ExpressionEngine Easy iCalendar plugin//NONSGML v1.1.1//EN
BEGIN:VEVENT
UID:event
LOCATION:The Schapiro Center\, Davis Auditorium
DTSTAMP:20210221T33600Z
DTSTART;TZID=America/New_York:20101203T181500
DTEND;TZID=America/New_York:
SUMMARY:The Never-Ending Bob Dylan
DESCRIPTION:Music critics Greil Marcus and Christopher Ricks will speak 
 on "The Never-Ending Bob Dylan".
END:VEVENT
END:VCALENDAR