BEGIN:VCALENDAR
VERSION:2.0
PRODID:-//ExpressionEngine Easy iCalendar plugin//NONSGML v1.1.1//EN
BEGIN:VEVENT
UID:event
LOCATION:The Heyman Center\, Second Floor Common Room
DTSTAMP:20210221T33600Z
DTSTART;TZID=America/New_York:20100204T181500
DTEND;TZID=America/New_York:
SUMMARY:Race in the Renaissance
DESCRIPTION:Anthony Grafton\, Henry Putnam University Professor of Histor
 y at Princeton University\, will speak on "Race in the Renais
 sance"
END:VEVENT
END:VCALENDAR