BEGIN:VCALENDAR
VERSION:2.0
PRODID:-//ExpressionEngine Easy iCalendar plugin//NONSGML v1.1.1//EN
BEGIN:VEVENT
UID:event
LOCATION:The Heyman Center\, Second Floor Common Room
DTSTAMP:20210221T33400Z
DTSTART;TZID=America/New_York:20100211T181500
DTEND;TZID=America/New_York:
SUMMARY:Blacked-Out Spaces: Freud and War Censorship
DESCRIPTION:Peter Galison\, Joseph Pellegrino University Professor at Har
 vard University\, will speak on "Blacked-Out Spaces: Freud an
 d War Censorship."
END:VEVENT
END:VCALENDAR