BEGIN:VCALENDAR
VERSION:2.0
PRODID:-//ExpressionEngine Easy iCalendar plugin//NONSGML v1.1.1//EN
BEGIN:VEVENT
UID:event
LOCATION:The Heyman Center\, Second Floor Common Room
DTSTAMP:20210221T33500Z
DTSTART;TZID=America/New_York:20100215T181500
DTEND;TZID=America/New_York:
SUMMARY:Puritanism\, Liberty\, and the English Civil Wars
DESCRIPTION:Blair Worden\, Research Professor in History at the Universit
 y of London\, will speak on "Puritanism\, Liberty\, and the Eng
 lish Civil Wars"
END:VEVENT
END:VCALENDAR