BEGIN:VCALENDAR
VERSION:2.0
PRODID:-//ExpressionEngine Easy iCalendar plugin//NONSGML v1.1.1//EN
BEGIN:VEVENT
UID:event
LOCATION:The Schapiro Center\, Davis Auditorium
DTSTAMP:20210221T32600Z
DTSTART;TZID=America/New_York:20100217T181500
DTEND;TZID=America/New_York:
SUMMARY:The Great American University: Is Its Preeminence at Risk?
DESCRIPTION:Jonathan Cole\, John Mitchell Mason Professor of the Universi
 ty and Provost and Dean of the Faculties\, Emeritus at Columb
 ia University\, will address topics from his new publication\,
  The Great American University: Its Rise To Preeminence\, Its
  Indispensable National Role\, Why It Must Be Protected.
END:VEVENT
END:VCALENDAR