BEGIN:VCALENDAR
VERSION:2.0
PRODID:-//ExpressionEngine Easy iCalendar plugin//NONSGML v1.1.1//EN
BEGIN:VEVENT
UID:event
LOCATION:The Heyman Center\, Second Floor Common Room
DTSTAMP:20210221T33000Z
DTSTART;TZID=America/New_York:20100304T181500
DTEND;TZID=America/New_York:
SUMMARY:The Ivory Tower: A History of an Idea about Knowledge and Po
 litics
DESCRIPTION:Steven Shapin\, Franklin L. Ford Professor of the History of 
 Science at Harvard University\, will speak on "The Ivory Towe
 r: A History on an Idea about Knowledge and Politics." Craig
  Calhoun\, the Director of the Social Science Research Counci
 l\, will chair.
END:VEVENT
END:VCALENDAR