BEGIN:VCALENDAR
VERSION:2.0
PRODID:-//ExpressionEngine Easy iCalendar plugin//NONSGML v1.1.1//EN
BEGIN:VEVENT
UID:event
LOCATION:The Heyman Center\, Second Floor Common Room
DTSTAMP:20210221T33300Z
DTSTART;TZID=America/New_York:20100308T181500
DTEND;TZID=America/New_York:
SUMMARY:Jewish Identity and the “Jewish Question” in France: a p
 ropos of Irène Némirovsky
DESCRIPTION:Susan Suleiman\, C. Douglas Dillon Professor of the Civilizat
 ion of France and Professor of Comparative Literature at Har
 vard University\, will speak on "Jewish Identity and the 'Jew
 ish Question' in France: a propos of Irène Némirovsky."
END:VEVENT
END:VCALENDAR