BEGIN:VCALENDAR
VERSION:2.0
PRODID:-//ExpressionEngine Easy iCalendar plugin//NONSGML v1.1.1//EN
BEGIN:VEVENT
UID:event
LOCATION:The Schapiro Center\, Davis Auditorium
DTSTAMP:20210221T33400Z
DTSTART;TZID=America/New_York:20100325T120000
DTEND;TZID=America/New_York:
SUMMARY:The Continuing Financial Crisis: Perspectives from the North
  and the South
DESCRIPTION:This talk on "Taking Stock of the Financial Crisis" will fea
 ture Joseph Stiglitz\, Nobel Laurette and University Professo
 r at Columbia University.
END:VEVENT
END:VCALENDAR