BEGIN:VCALENDAR
VERSION:2.0
PRODID:-//ExpressionEngine Easy iCalendar plugin//NONSGML v1.1.1//EN
BEGIN:VEVENT
UID:event
LOCATION:The Schapiro Center\, Davis Auditorium
DTSTAMP:20210221T33700Z
DTSTART;TZID=America/New_York:20100331T181500
DTEND;TZID=America/New_York:
SUMMARY:Marx or Keynes or…?
DESCRIPTION:This talk will address the question "Marx or Keynes?" It wil
 l feature David Harvey\, Prabhat Patnaik\, Duncan Foley\, and P
 erry Mehrling.
END:VEVENT
END:VCALENDAR