BEGIN:VCALENDAR
VERSION:2.0
PRODID:-//ExpressionEngine Easy iCalendar plugin//NONSGML v1.1.1//EN
BEGIN:VEVENT
UID:event
LOCATION:The Heyman Center\, Second Floor Common Room
DTSTAMP:20210221T33800Z
DTSTART;TZID=America/New_York:20100401T100000
DTEND;TZID=America/New_York:
SUMMARY:Neo-Liberalism\, Secularism\, and the Future of the Left in In
 dia—a day-long conference
DESCRIPTION:The Heyman Center will host a day-long conference on secular
 ism\, liberalism\, and its relation to left politics in India 
 today. Participating will be prominent Indian politicians an
 d intellectuals.
END:VEVENT
END:VCALENDAR