BEGIN:VCALENDAR
VERSION:2.0
PRODID:-//ExpressionEngine Easy iCalendar plugin//NONSGML v1.1.1//EN
BEGIN:VEVENT
UID:event
LOCATION:Miller Theatre
DTSTAMP:20210221T33600Z
DTSTART;TZID=America/New_York:20100402T200000
DTEND;TZID=America/New_York:
SUMMARY:Ustad Amjad Ali Khan\, Sarod Maestro
DESCRIPTION:Grammy nominated Ustad Amjad Ali Khan is a maestro without p
 eer in Indian classical music. He will be giving a lecture a
 nd performance\, and will be accompanied by his two sons\, Ama
 an Ali Khan and Ayaan Ali Khan who are very accomplished mus
 icians as well.
END:VEVENT
END:VCALENDAR