BEGIN:VCALENDAR
VERSION:2.0
PRODID:-//ExpressionEngine Easy iCalendar plugin//NONSGML v1.1.1//EN
BEGIN:VEVENT
UID:event
LOCATION:The Heyman Center\, Second Floor Common Room
DTSTAMP:20210221T33800Z
DTSTART;TZID=America/New_York:20100405T181500
DTEND;TZID=America/New_York:
SUMMARY:The Republic of Letters: Survival or Revival?
DESCRIPTION:Peter Burke\, Professor Emeritus of Cultural History and Fell
 ow of Emmanuel College\, Cambridge University\, will speak on 
 "The Republic of Letters: Survival or Revival?"
END:VEVENT
END:VCALENDAR