BEGIN:VCALENDAR
VERSION:2.0
PRODID:-//ExpressionEngine Easy iCalendar plugin//NONSGML v1.1.1//EN
BEGIN:VEVENT
UID:event
LOCATION:Schermerhorn Hall\, Room 501
DTSTAMP:20210221T33400Z
DTSTART;TZID=America/New_York:20100412T200000
DTEND;TZID=America/New_York:
SUMMARY:Historical and Literary Approaches to the âFinal Solutionâ
 
DESCRIPTION:Dominick LaCapra\, Bryce and Edith M. Bowmar Professor of Hum
 anistic Studies at Cornell University\, will deliver The Annu
 al âHistory and Theoryâ Lecture on âHistorical and Lit
 erary Approaches to the âFinal Solution.'" Commentating wi
 ll be Ethan Kleinberg\, Associate Professor of History at Wes
 leyan University.
END:VEVENT
END:VCALENDAR