BEGIN:VCALENDAR
VERSION:2.0
PRODID:-//ExpressionEngine Easy iCalendar plugin//NONSGML v1.1.1//EN
BEGIN:VEVENT
UID:event
LOCATION:Low Memorial Library\, Rotunda
DTSTAMP:20210221T33700Z
DTSTART;TZID=America/New_York:20100414T181500
DTEND;TZID=America/New_York:
SUMMARY:Free Speech in a Globalized World
DESCRIPTION:Salman Rushdie\, David Ignatius\, Michael Schudson\, and Lee C.
  Bollinger will speak on issues related to President Bolling
 er's recent book\, Uninhibited\, Robust\, and Wide-Open: A Free
  Press for a New Century. Michael Doyle will chair.
END:VEVENT
END:VCALENDAR