BEGIN:VCALENDAR
VERSION:2.0
PRODID:-//ExpressionEngine Easy iCalendar plugin//NONSGML v1.1.1//EN
BEGIN:VEVENT
UID:event
LOCATION:The Schapiro Center\, Davis Auditorium
DTSTAMP:20210221T33100Z
DTSTART;TZID=America/New_York:20100415T181500
DTEND;TZID=America/New_York:
SUMMARY:Ellison\, Obama\, King\, and the American Dream
DESCRIPTION:Eric Sundquist\, Distinguished Professor of English at UCLA\, 
 will deliver the Lionel Trilling Seminar on “Ellison\, Obam
 a\, King\, and the American Dream.”
END:VEVENT
END:VCALENDAR