BEGIN:VCALENDAR
VERSION:2.0
PRODID:-//ExpressionEngine Easy iCalendar plugin//NONSGML v1.1.1//EN
BEGIN:VEVENT
UID:event
LOCATION:The Schapiro Center\, Davis Auditorium
DTSTAMP:20210221T33600Z
DTSTART;TZID=America/New_York:20100422T200000
DTEND;TZID=America/New_York:
SUMMARY:A reading by Jamaica Kincaid followed by an interview with S
 aidiya Hartman
DESCRIPTION:Renowned author Jamaica Kincaid will give a reading\, followe
 d by an interview with Saidiya Hartman\, Professor of English
  and Comparative Literature at Columbia University.\n\n 
END:VEVENT
END:VCALENDAR