BEGIN:VCALENDAR
VERSION:2.0
PRODID:-//ExpressionEngine Easy iCalendar plugin//NONSGML v1.1.1//EN
BEGIN:VEVENT
UID:event
LOCATION:The Heyman Center\, Second Floor Common Room
DTSTAMP:20210221T33300Z
DTSTART;TZID=America/New_York:20100426T181500
DTEND;TZID=America/New_York:
SUMMARY:Telling It Like It Wasn’t: the Actual History of Counterfa
 ctual History
DESCRIPTION:Catherine Gallagher\, Eggers Professor of English Literature 
 at the University of California\, Berkeley\, will speak on "Te
 lling It Like It Wasn't: the Actual History of Counterfactua
 l History".
END:VEVENT
END:VCALENDAR