BEGIN:VCALENDAR
VERSION:2.0
PRODID:-//ExpressionEngine Easy iCalendar plugin//NONSGML v1.1.1//EN
BEGIN:VEVENT
UID:event
LOCATION:The Heyman Center\, Second Floor Common Room
DTSTAMP:20210221T33000Z
DTSTART;TZID=America/New_York:20100428T181500
DTEND;TZID=America/New_York:
SUMMARY:The Fourth Dimension of a Poem
DESCRIPTION:M.H. Abrams\, Class of 1916 Professor of English Emeritus at 
 Cornell University\, will speak on "The Fourth Dimension of a
  Poem."
END:VEVENT
END:VCALENDAR