BEGIN:VCALENDAR
VERSION:2.0
PRODID:-//ExpressionEngine Easy iCalendar plugin//NONSGML v1.1.1//EN
BEGIN:VEVENT
UID:event
LOCATION:The Heyman Center\, Second Floor Common Room
DTSTAMP:20210221T33200Z
DTSTART;TZID=America/New_York:20100429T181500
DTEND;TZID=America/New_York:
SUMMARY:Four Ways to Misunderstand Euripides’ Medea
DESCRIPTION:Glenn Most\, Professor of Social Thought and of Classics at t
 he University of Chicago\, will speak on "Four Ways to Misund
 erstand Euripides’ Medea."
END:VEVENT
END:VCALENDAR