BEGIN:VCALENDAR
VERSION:2.0
PRODID:-//ExpressionEngine Easy iCalendar plugin//NONSGML v1.1.1//EN
BEGIN:VEVENT
UID:event
LOCATION:The Heyman Center\, Second Floor Common Room
DTSTAMP:20210221T33300Z
DTSTART;TZID=America/New_York:20100503T181500
DTEND;TZID=America/New_York:
SUMMARY:Writing Constitutions into British and Global Histories
DESCRIPTION:Linda Colley\, Shelby M.C. Davis 1958 Professor of History at
  Princeton University\, will speak on "Writing Constitutions 
 into British and Global Histories"
END:VEVENT
END:VCALENDAR