BEGIN:VCALENDAR
VERSION:2.0
PRODID:-//ExpressionEngine Easy iCalendar plugin//NONSGML v1.1.1//EN
BEGIN:VEVENT
UID:event
LOCATION:The Heyman Center\, Second Floor Common Room
DTSTAMP:20210221T32900Z
DTSTART;TZID=America/New_York:20100506T181500
DTEND;TZID=America/New_York:
SUMMARY:Henry Luce and the Future of Journalism
DESCRIPTION:David Bromwich\, Sterling Professor of English at Yale Univer
 sity\, Nicholas Lemann\, Dean and Henry R. Luce Professor of J
 ournalism at Columbia University\, and Alan Brinkley\, Allan N
 evins Professor of American History at Columbia University\, 
 will speak on "Henry Luce and the Future of Journalism."
END:VEVENT
END:VCALENDAR