BEGIN:VCALENDAR
VERSION:2.0
PRODID:-//ExpressionEngine Easy iCalendar plugin//NONSGML v1.1.1//EN
BEGIN:VEVENT
UID:event
LOCATION:The Heyman Center\, Second Floor Common Room
DTSTAMP:20210221T32900Z
DTSTART;TZID=America/New_York:20120126T181500
DTEND;TZID=America/New_York:
SUMMARY:The Hungry World: The War on Poverty in Asia during the Cold
  War
DESCRIPTION:Nick Cullather\, Associate Professor of History at Indiana Un
 iversity\, Bloomington and author\, most recently\, of The Hung
 ry World: America’s Cold War Battle Against Poverty in Asi
 a (Harvard\, 2010)\, will kick off the Heyman Center's Spring 
 schedule.
END:VEVENT
END:VCALENDAR