BEGIN:VCALENDAR
VERSION:2.0
PRODID:-//ExpressionEngine Easy iCalendar plugin//NONSGML v1.1.1//EN
BEGIN:VEVENT
UID:event
LOCATION:The Heyman Center\, Second Floor Common Room
DTSTAMP:20210221T33800Z
DTSTART;TZID=America/New_York:20120201T181500
DTEND;TZID=America/New_York:
SUMMARY:Casualties of Credit
DESCRIPTION:Carl Wennerlind\, Assistant Professor of History at Barnard C
 ollege and author of Casualties of Credit: The English Finan
 cial Revolution\, 1620-1720 (Harvard University Press\, 2011)\,
  will speak on changes in 17th century natural philosophy\, e
 pistemology\, and political economy that contributed to the m
 odern Financial Revolution.
END:VEVENT
END:VCALENDAR