BEGIN:VCALENDAR
VERSION:2.0
PRODID:-//ExpressionEngine Easy iCalendar plugin//NONSGML v1.1.1//EN
BEGIN:VEVENT
UID:event
LOCATION:The Heyman Center\, Second Floor Common Room
DTSTAMP:20210221T33700Z
DTSTART;TZID=America/New_York:20120203T93000
DTEND;TZID=America/New_York:20120204T180000
SUMMARY:Reworking Political Concepts II: A Lexicon in Formation—a 
 two-day conference
DESCRIPTION:This conference is part of the early stages in the formation
  of a lexicon of political concepts. It will be the sixth in
  a series of conferences started in Tel Aviv University\, and
  the second to take place in New York City.
END:VEVENT
END:VCALENDAR