BEGIN:VCALENDAR
VERSION:2.0
PRODID:-//ExpressionEngine Easy iCalendar plugin//NONSGML v1.1.1//EN
BEGIN:VEVENT
UID:event
LOCATION:The Schapiro Center\, Davis Auditorium
DTSTAMP:20210221T32900Z
DTSTART;TZID=America/New_York:20090917T181500
DTEND;TZID=America/New_York:
SUMMARY:Google\, Libraries\, and the Digital Future
DESCRIPTION:Robert Darnton is Carl H. Pforzheimer University Professor a
 nd director of the University Library at Harvard University.
  He will speak on "Google\, Libraries\, and the Digital Future
 ."
END:VEVENT
END:VCALENDAR