BEGIN:VCALENDAR
VERSION:2.0
PRODID:-//ExpressionEngine Easy iCalendar plugin//NONSGML v1.1.1//EN
BEGIN:VEVENT
UID:event
LOCATION:The Heyman Center\, Second Floor Common Room
DTSTAMP:20210221T32900Z
DTSTART;TZID=America/New_York:20090921T181500
DTEND;TZID=America/New_York:
SUMMARY:The Western Illusion of Human Nature
DESCRIPTION:Marshall Sahlins is one of the most prominent American anthr
 opologists of our time. He holds the title of Charles F. Gre
 y Distinguished Service Professor of Anthropology at the Uni
 versity of Chicago\, where he currently teaches. He will spea
 k on "The Western Illusion of Human Nature."
END:VEVENT
END:VCALENDAR